BEGIN:VCALENDAR
VERSION:2.0
PRODID:-// - ECPv6.15.12.2//NONSGML v1.0//EN
CALSCALE:GREGORIAN
METHOD:PUBLISH
X-ORIGINAL-URL:https://sekermatingen.ch
X-WR-CALDESC:Veranstaltungen für 
REFRESH-INTERVAL;VALUE=DURATION:PT1H
X-Robots-Tag:noindex
X-PUBLISHED-TTL:PT1H
BEGIN:VTIMEZONE
TZID:Europe/Zurich
BEGIN:DAYLIGHT
TZOFFSETFROM:+0100
TZOFFSETTO:+0200
TZNAME:CEST
DTSTART:20230326T010000
END:DAYLIGHT
BEGIN:STANDARD
TZOFFSETFROM:+0200
TZOFFSETTO:+0100
TZNAME:CET
DTSTART:20231029T010000
END:STANDARD
BEGIN:DAYLIGHT
TZOFFSETFROM:+0100
TZOFFSETTO:+0200
TZNAME:CEST
DTSTART:20240331T010000
END:DAYLIGHT
BEGIN:STANDARD
TZOFFSETFROM:+0200
TZOFFSETTO:+0100
TZNAME:CET
DTSTART:20241027T010000
END:STANDARD
BEGIN:DAYLIGHT
TZOFFSETFROM:+0100
TZOFFSETTO:+0200
TZNAME:CEST
DTSTART:20250330T010000
END:DAYLIGHT
BEGIN:STANDARD
TZOFFSETFROM:+0200
TZOFFSETTO:+0100
TZNAME:CET
DTSTART:20251026T010000
END:STANDARD
BEGIN:DAYLIGHT
TZOFFSETFROM:+0100
TZOFFSETTO:+0200
TZNAME:CEST
DTSTART:20260329T010000
END:DAYLIGHT
BEGIN:STANDARD
TZOFFSETFROM:+0200
TZOFFSETTO:+0100
TZNAME:CET
DTSTART:20261025T010000
END:STANDARD
END:VTIMEZONE
BEGIN:VEVENT
DTSTART;TZID=Europe/Zurich:20241220T080000
DTEND;TZID=Europe/Zurich:20241220T130000
DTSTAMP:20260423T142448
CREATED:20230626T043925Z
LAST-MODIFIED:20240807T061829Z
UID:4521-1734681600-1734699600@sekermatingen.ch
SUMMARY:Weihnachtsanlass ganze Schule
DESCRIPTION:
URL:https://sekermatingen.ch/event/weihnachtsanlass-ganze-schule/
END:VEVENT
BEGIN:VEVENT
DTSTART;TZID=Europe/Zurich:20241223T080000
DTEND;TZID=Europe/Zurich:20250110T170000
DTSTAMP:20260423T142448
CREATED:20230626T044034Z
LAST-MODIFIED:20240807T061921Z
UID:4525-1734940800-1736528400@sekermatingen.ch
SUMMARY:Weihnachtsferien
DESCRIPTION:
URL:https://sekermatingen.ch/event/weihnachtsferien-6/
END:VEVENT
END:VCALENDAR