BEGIN:VCALENDAR
VERSION:2.0
PRODID:-// - ECPv6.15.12.2//NONSGML v1.0//EN
CALSCALE:GREGORIAN
METHOD:PUBLISH
X-ORIGINAL-URL:https://sekermatingen.ch
X-WR-CALDESC:Veranstaltungen für 
REFRESH-INTERVAL;VALUE=DURATION:PT1H
X-Robots-Tag:noindex
X-PUBLISHED-TTL:PT1H
BEGIN:VTIMEZONE
TZID:Europe/Zurich
BEGIN:DAYLIGHT
TZOFFSETFROM:+0100
TZOFFSETTO:+0200
TZNAME:CEST
DTSTART:20230326T010000
END:DAYLIGHT
BEGIN:STANDARD
TZOFFSETFROM:+0200
TZOFFSETTO:+0100
TZNAME:CET
DTSTART:20231029T010000
END:STANDARD
BEGIN:DAYLIGHT
TZOFFSETFROM:+0100
TZOFFSETTO:+0200
TZNAME:CEST
DTSTART:20240331T010000
END:DAYLIGHT
BEGIN:STANDARD
TZOFFSETFROM:+0200
TZOFFSETTO:+0100
TZNAME:CET
DTSTART:20241027T010000
END:STANDARD
BEGIN:DAYLIGHT
TZOFFSETFROM:+0100
TZOFFSETTO:+0200
TZNAME:CEST
DTSTART:20250330T010000
END:DAYLIGHT
BEGIN:STANDARD
TZOFFSETFROM:+0200
TZOFFSETTO:+0100
TZNAME:CET
DTSTART:20251026T010000
END:STANDARD
END:VTIMEZONE
BEGIN:VEVENT
DTSTART;TZID=Europe/Zurich:20241111T080000
DTEND;TZID=Europe/Zurich:20241115T170000
DTSTAMP:20260423T162344
CREATED:20230626T043506Z
LAST-MODIFIED:20240807T061422Z
UID:4513-1731312000-1731690000@sekermatingen.ch
SUMMARY:Schnupperlehre 2. Klassen
DESCRIPTION:
URL:https://sekermatingen.ch/event/schnupperlehre-2-klassen-5/
END:VEVENT
BEGIN:VEVENT
DTSTART;TZID=Europe/Zurich:20241112T193000
DTEND;TZID=Europe/Zurich:20241112T203000
DTSTAMP:20260423T162344
CREATED:20230626T043625Z
LAST-MODIFIED:20240807T061520Z
UID:4515-1731439800-1731443400@sekermatingen.ch
SUMMARY:Informationsabend Eltern der zukünftigen Erstklässler
DESCRIPTION:Infoabend für die Eltern der 6. Klässler:innen. 19.30 im Zeichenzimmer der SeE.
URL:https://sekermatingen.ch/event/informationsabend-eltern-der-zukuenftigen-erstklaessler/
END:VEVENT
BEGIN:VEVENT
DTSTART;TZID=Europe/Zurich:20241114T080000
DTEND;TZID=Europe/Zurich:20241114T170000
DTSTAMP:20260423T162344
CREATED:20240807T061556Z
LAST-MODIFIED:20240807T061556Z
UID:4509-1731571200-1731603600@sekermatingen.ch
SUMMARY:Nationaler Zukunftstag
DESCRIPTION:Unsere Erstklässler:innen begleiten einen Erwachsenen im Berufsalltag.
URL:https://sekermatingen.ch/event/nationaler-zukunftstag-2/
END:VEVENT
BEGIN:VEVENT
DTSTART;TZID=Europe/Zurich:20241120T200000
DTEND;TZID=Europe/Zurich:20241120T210000
DTSTAMP:20260423T162344
CREATED:20230626T043726Z
LAST-MODIFIED:20240807T061643Z
UID:4517-1732132800-1732136400@sekermatingen.ch
SUMMARY:Budgetversammlung Schulgemeinde
DESCRIPTION:Mehrzweckhalle Ermatingen.
URL:https://sekermatingen.ch/event/budgetversammlung-schulgemeinde/
END:VEVENT
BEGIN:VEVENT
DTSTART;TZID=Europe/Zurich:20241128T080000
DTEND;TZID=Europe/Zurich:20241128T170000
DTSTAMP:20260423T162344
CREATED:20240807T061747Z
LAST-MODIFIED:20240807T061747Z
UID:5141-1732780800-1732813200@sekermatingen.ch
SUMMARY:Präventionsanlass Kantonspolizei TG für die 2. Klassen
DESCRIPTION:
URL:https://sekermatingen.ch/event/praeventionsanlass-kantonspolizei-tg-fuer-die-2-klassen/
END:VEVENT
END:VCALENDAR