BEGIN:VCALENDAR
VERSION:2.0
PRODID:-// - ECPv6.15.12.2//NONSGML v1.0//EN
CALSCALE:GREGORIAN
METHOD:PUBLISH
X-ORIGINAL-URL:https://sekermatingen.ch
X-WR-CALDESC:Veranstaltungen für 
REFRESH-INTERVAL;VALUE=DURATION:PT1H
X-Robots-Tag:noindex
X-PUBLISHED-TTL:PT1H
BEGIN:VTIMEZONE
TZID:Europe/Zurich
BEGIN:DAYLIGHT
TZOFFSETFROM:+0100
TZOFFSETTO:+0200
TZNAME:CEST
DTSTART:20230326T010000
END:DAYLIGHT
BEGIN:STANDARD
TZOFFSETFROM:+0200
TZOFFSETTO:+0100
TZNAME:CET
DTSTART:20231029T010000
END:STANDARD
BEGIN:DAYLIGHT
TZOFFSETFROM:+0100
TZOFFSETTO:+0200
TZNAME:CEST
DTSTART:20240331T010000
END:DAYLIGHT
BEGIN:STANDARD
TZOFFSETFROM:+0200
TZOFFSETTO:+0100
TZNAME:CET
DTSTART:20241027T010000
END:STANDARD
BEGIN:DAYLIGHT
TZOFFSETFROM:+0100
TZOFFSETTO:+0200
TZNAME:CEST
DTSTART:20250330T010000
END:DAYLIGHT
BEGIN:STANDARD
TZOFFSETFROM:+0200
TZOFFSETTO:+0100
TZNAME:CET
DTSTART:20251026T010000
END:STANDARD
END:VTIMEZONE
BEGIN:VEVENT
DTSTART;TZID=Europe/Zurich:20240812T073000
DTEND;TZID=Europe/Zurich:20240812T081500
DTSTAMP:20260423T213438
CREATED:20240807T051149Z
LAST-MODIFIED:20240807T051149Z
UID:5132-1723447800-1723450500@sekermatingen.ch
SUMMARY:Gemeinsamer Start ins Schuljahr
DESCRIPTION:Mit ein einer Begrüssungrede und einer Einstiegslektion bei der Klassenlehrperson starten wir alle gemeinsam ins neue Schuljahr. Treffpunkt für alle 07.30 beim Haupteingang.
URL:https://sekermatingen.ch/event/gemeinsamer-start-ins-schuljahr/
END:VEVENT
BEGIN:VEVENT
DTSTART;TZID=Europe/Zurich:20240819T080000
DTEND;TZID=Europe/Zurich:20240823T170000
DTSTAMP:20260423T213438
CREATED:20240807T051407Z
LAST-MODIFIED:20240807T051407Z
UID:5135-1724054400-1724432400@sekermatingen.ch
SUMMARY:Seeüberquerung KW 34
DESCRIPTION:Je nach Wetter findet die Seeüberquerung statt. Der genaue Zeitpunkt wird kurzfristig bekannt gegeben. Alle unsere SuS schwimmen über den See.
URL:https://sekermatingen.ch/event/seeueberquerung-kw-34/
END:VEVENT
BEGIN:VEVENT
DTSTART;TZID=Europe/Zurich:20240821T193000
DTEND;TZID=Europe/Zurich:20240821T210000
DTSTAMP:20260423T213438
CREATED:20230626T042218Z
LAST-MODIFIED:20240807T060818Z
UID:4492-1724268600-1724274000@sekermatingen.ch
SUMMARY:Elternabend 1. Klassen
DESCRIPTION:Elternabend für die Eltern der neuen Erstklässler. 19.30 im Zeichenzimmer der SeE.
URL:https://sekermatingen.ch/event/elternabend-1-klassen-3/
END:VEVENT
BEGIN:VEVENT
DTSTART;TZID=Europe/Zurich:20240826T080000
DTEND;TZID=Europe/Zurich:20240830T170000
DTSTAMP:20260423T213438
CREATED:20230626T043005Z
LAST-MODIFIED:20240807T051757Z
UID:4504-1724659200-1725037200@sekermatingen.ch
SUMMARY:Schnupperlehre G3
DESCRIPTION:
URL:https://sekermatingen.ch/event/schnupperlehre-g3-9/
END:VEVENT
END:VCALENDAR