BEGIN:VCALENDAR
VERSION:2.0
PRODID:-// - ECPv6.15.12.2//NONSGML v1.0//EN
CALSCALE:GREGORIAN
METHOD:PUBLISH
X-ORIGINAL-URL:https://sekermatingen.ch
X-WR-CALDESC:Veranstaltungen für 
REFRESH-INTERVAL;VALUE=DURATION:PT1H
X-Robots-Tag:noindex
X-PUBLISHED-TTL:PT1H
BEGIN:VTIMEZONE
TZID:Europe/Zurich
BEGIN:DAYLIGHT
TZOFFSETFROM:+0100
TZOFFSETTO:+0200
TZNAME:CEST
DTSTART:20220327T010000
END:DAYLIGHT
BEGIN:STANDARD
TZOFFSETFROM:+0200
TZOFFSETTO:+0100
TZNAME:CET
DTSTART:20221030T010000
END:STANDARD
BEGIN:DAYLIGHT
TZOFFSETFROM:+0100
TZOFFSETTO:+0200
TZNAME:CEST
DTSTART:20230326T010000
END:DAYLIGHT
BEGIN:STANDARD
TZOFFSETFROM:+0200
TZOFFSETTO:+0100
TZNAME:CET
DTSTART:20231029T010000
END:STANDARD
BEGIN:DAYLIGHT
TZOFFSETFROM:+0100
TZOFFSETTO:+0200
TZNAME:CEST
DTSTART:20240331T010000
END:DAYLIGHT
BEGIN:STANDARD
TZOFFSETFROM:+0200
TZOFFSETTO:+0100
TZNAME:CET
DTSTART:20241027T010000
END:STANDARD
END:VTIMEZONE
BEGIN:VEVENT
DTSTART;TZID=Europe/Zurich:20230709T080000
DTEND;TZID=Europe/Zurich:20230811T170000
DTSTAMP:20260423T184912
CREATED:20220617T063655Z
LAST-MODIFIED:20220617T063655Z
UID:3968-1688889600-1691773200@sekermatingen.ch
SUMMARY:Sommerferien
DESCRIPTION:
URL:https://sekermatingen.ch/event/sommerferien-3/
END:VEVENT
BEGIN:VEVENT
DTSTART;TZID=Europe/Zurich:20230814T073000
DTEND;TZID=Europe/Zurich:20230814T170000
DTSTAMP:20260423T184912
CREATED:20230626T041526Z
LAST-MODIFIED:20230626T041526Z
UID:4481-1691998200-1692032400@sekermatingen.ch
SUMMARY:Schuljahresbeginn
DESCRIPTION:Wir begrüssen unsere neuen Erstklässler. Schulgebinn für alle um 07.30. Die erste Lektion findet beim Klassenlehrer statt.
URL:https://sekermatingen.ch/event/schuljahresbeginn/
END:VEVENT
BEGIN:VEVENT
DTSTART;TZID=Europe/Zurich:20230821T080000
DTEND;TZID=Europe/Zurich:20230823T170000
DTSTAMP:20260423T184912
CREATED:20230626T041654Z
LAST-MODIFIED:20230626T041654Z
UID:4483-1692604800-1692810000@sekermatingen.ch
SUMMARY:Seeüberquerung
DESCRIPTION:Die Seeüberquerung findet DI / MI oder DO statt. Der Termin wird am Montag bekanntgegeben und hängt vom Wetter und der Wassertemperatur ab.
URL:https://sekermatingen.ch/event/seeueberquerung-4/
END:VEVENT
END:VCALENDAR