BEGIN:VCALENDAR
VERSION:2.0
PRODID:-// - ECPv6.15.12.2//NONSGML v1.0//EN
CALSCALE:GREGORIAN
METHOD:PUBLISH
X-ORIGINAL-URL:https://sekermatingen.ch
X-WR-CALDESC:Veranstaltungen für 
REFRESH-INTERVAL;VALUE=DURATION:PT1H
X-Robots-Tag:noindex
X-PUBLISHED-TTL:PT1H
BEGIN:VTIMEZONE
TZID:Europe/Zurich
BEGIN:DAYLIGHT
TZOFFSETFROM:+0100
TZOFFSETTO:+0200
TZNAME:CEST
DTSTART:20220327T010000
END:DAYLIGHT
BEGIN:STANDARD
TZOFFSETFROM:+0200
TZOFFSETTO:+0100
TZNAME:CET
DTSTART:20221030T010000
END:STANDARD
BEGIN:DAYLIGHT
TZOFFSETFROM:+0100
TZOFFSETTO:+0200
TZNAME:CEST
DTSTART:20230326T010000
END:DAYLIGHT
BEGIN:STANDARD
TZOFFSETFROM:+0200
TZOFFSETTO:+0100
TZNAME:CET
DTSTART:20231029T010000
END:STANDARD
BEGIN:DAYLIGHT
TZOFFSETFROM:+0100
TZOFFSETTO:+0200
TZNAME:CEST
DTSTART:20240331T010000
END:DAYLIGHT
BEGIN:STANDARD
TZOFFSETFROM:+0200
TZOFFSETTO:+0100
TZNAME:CET
DTSTART:20241027T010000
END:STANDARD
END:VTIMEZONE
BEGIN:VEVENT
DTSTART;TZID=Europe/Zurich:20230306T080000
DTEND;TZID=Europe/Zurich:20230310T170000
DTSTAMP:20260423T102355
CREATED:20220617T063030Z
LAST-MODIFIED:20220617T063030Z
UID:3956-1678089600-1678467600@sekermatingen.ch
SUMMARY:Skilager und Projektwochen
DESCRIPTION:1. Klassen Skilager Davos\n2. Klassen Projektwoche Berufswahl gemäss unserem Berufswahlkonzept\n3. Klassen Sonderwochen
URL:https://sekermatingen.ch/event/skilager-und-projektwochen/
END:VEVENT
BEGIN:VEVENT
DTSTART;TZID=Europe/Zurich:20230317T120000
DTEND;TZID=Europe/Zurich:20230317T170000
DTSTAMP:20260423T102355
CREATED:20220617T062902Z
LAST-MODIFIED:20220617T062902Z
UID:3954-1679054400-1679072400@sekermatingen.ch
SUMMARY:Groppenfasnacht Nachmittag schulfrei
DESCRIPTION:
URL:https://sekermatingen.ch/event/groppenfasnacht-nachmittag-schulfrei/
END:VEVENT
BEGIN:VEVENT
DTSTART;TZID=Europe/Zurich:20230323T060000
DTEND;TZID=Europe/Zurich:20230323T180000
DTSTAMP:20260423T102355
CREATED:20221221T120235Z
LAST-MODIFIED:20221221T120346Z
UID:4194-1679551200-1679594400@sekermatingen.ch
SUMMARY:Schneesporttag Laax 2023
DESCRIPTION:Unser Schneesporttag findet dieses Jahr im März statt. Wir freuen jetzt schon auf einen frühlingshaften Tag in den Bergen.
URL:https://sekermatingen.ch/event/schneesporttag-laax-2023/
END:VEVENT
BEGIN:VEVENT
DTSTART;TZID=Europe/Zurich:20230327T080000
DTEND;TZID=Europe/Zurich:20230403T170000
DTSTAMP:20260423T102355
CREATED:20220617T063127Z
LAST-MODIFIED:20220617T063127Z
UID:3958-1679904000-1680541200@sekermatingen.ch
SUMMARY:Frühlingsferien
DESCRIPTION:
URL:https://sekermatingen.ch/event/fruehlingsferien-5/
END:VEVENT
END:VCALENDAR