BEGIN:VCALENDAR
VERSION:2.0
PRODID:-// - ECPv6.15.12.2//NONSGML v1.0//EN
CALSCALE:GREGORIAN
METHOD:PUBLISH
X-ORIGINAL-URL:https://sekermatingen.ch
X-WR-CALDESC:Veranstaltungen für 
REFRESH-INTERVAL;VALUE=DURATION:PT1H
X-Robots-Tag:noindex
X-PUBLISHED-TTL:PT1H
BEGIN:VTIMEZONE
TZID:Europe/Zurich
BEGIN:DAYLIGHT
TZOFFSETFROM:+0100
TZOFFSETTO:+0200
TZNAME:CEST
DTSTART:20210328T010000
END:DAYLIGHT
BEGIN:STANDARD
TZOFFSETFROM:+0200
TZOFFSETTO:+0100
TZNAME:CET
DTSTART:20211031T010000
END:STANDARD
BEGIN:DAYLIGHT
TZOFFSETFROM:+0100
TZOFFSETTO:+0200
TZNAME:CEST
DTSTART:20220327T010000
END:DAYLIGHT
BEGIN:STANDARD
TZOFFSETFROM:+0200
TZOFFSETTO:+0100
TZNAME:CET
DTSTART:20221030T010000
END:STANDARD
BEGIN:DAYLIGHT
TZOFFSETFROM:+0100
TZOFFSETTO:+0200
TZNAME:CEST
DTSTART:20230326T010000
END:DAYLIGHT
BEGIN:STANDARD
TZOFFSETFROM:+0200
TZOFFSETTO:+0100
TZNAME:CET
DTSTART:20231029T010000
END:STANDARD
END:VTIMEZONE
BEGIN:VEVENT
DTSTART;TZID=Europe/Zurich:20221030T080000
DTEND;TZID=Europe/Zurich:20221104T170000
DTSTAMP:20260423T023058
CREATED:20221023T074626Z
LAST-MODIFIED:20221023T074626Z
UID:4161-1667116800-1667581200@sekermatingen.ch
SUMMARY:Schnupperlehre G3
DESCRIPTION:
URL:https://sekermatingen.ch/event/schnupperlehre-g3-7/
END:VEVENT
BEGIN:VEVENT
DTSTART;TZID=Europe/Zurich:20221103T080000
DTEND;TZID=Europe/Zurich:20221103T170000
DTSTAMP:20260423T023058
CREATED:20220617T061642Z
LAST-MODIFIED:20220617T061642Z
UID:3936-1667462400-1667494800@sekermatingen.ch
SUMMARY:Besuch Phönixtheater Steckborn
DESCRIPTION:
URL:https://sekermatingen.ch/event/besuch-phoenixtheater-steckborn/
END:VEVENT
BEGIN:VEVENT
DTSTART;TZID=Europe/Zurich:20221103T080000
DTEND;TZID=Europe/Zurich:20221103T170000
DTSTAMP:20260423T023058
CREATED:20220628T085701Z
LAST-MODIFIED:20220628T085701Z
UID:4003-1667462400-1667494800@sekermatingen.ch
SUMMARY:Besuch Phönix Theater Steckborn
DESCRIPTION:
URL:https://sekermatingen.ch/event/besuch-phoenix-theater-steckborn/
END:VEVENT
BEGIN:VEVENT
DTSTART;TZID=Europe/Zurich:20221110T080000
DTEND;TZID=Europe/Zurich:20221110T170000
DTSTAMP:20260423T023058
CREATED:20220617T061810Z
LAST-MODIFIED:20221023T074336Z
UID:3938-1668067200-1668099600@sekermatingen.ch
SUMMARY:Nationaler Zukunftstag 22
DESCRIPTION:Unsere Erstklässler besuchen Betriebe. \nhttps://www.nationalerzukunftstag.ch/de/zukunftstag/daten/
URL:https://sekermatingen.ch/event/nationaler-zukunftstag-22/
END:VEVENT
BEGIN:VEVENT
DTSTART;TZID=Europe/Zurich:20221114T080000
DTEND;TZID=Europe/Zurich:20221118T170000
DTSTAMP:20260423T023058
CREATED:20221023T074650Z
LAST-MODIFIED:20221023T074650Z
UID:4163-1668412800-1668790800@sekermatingen.ch
SUMMARY:Schnupperlehre E2
DESCRIPTION:
URL:https://sekermatingen.ch/event/schnupperlehre-e2-2/
END:VEVENT
END:VCALENDAR