BEGIN:VCALENDAR
VERSION:2.0
PRODID:-// - ECPv6.15.12.2//NONSGML v1.0//EN
CALSCALE:GREGORIAN
METHOD:PUBLISH
X-ORIGINAL-URL:https://sekermatingen.ch
X-WR-CALDESC:Veranstaltungen für 
REFRESH-INTERVAL;VALUE=DURATION:PT1H
X-Robots-Tag:noindex
X-PUBLISHED-TTL:PT1H
BEGIN:VTIMEZONE
TZID:Europe/Zurich
BEGIN:DAYLIGHT
TZOFFSETFROM:+0100
TZOFFSETTO:+0200
TZNAME:CEST
DTSTART:20210328T010000
END:DAYLIGHT
BEGIN:STANDARD
TZOFFSETFROM:+0200
TZOFFSETTO:+0100
TZNAME:CET
DTSTART:20211031T010000
END:STANDARD
BEGIN:DAYLIGHT
TZOFFSETFROM:+0100
TZOFFSETTO:+0200
TZNAME:CEST
DTSTART:20220327T010000
END:DAYLIGHT
BEGIN:STANDARD
TZOFFSETFROM:+0200
TZOFFSETTO:+0100
TZNAME:CET
DTSTART:20221030T010000
END:STANDARD
BEGIN:DAYLIGHT
TZOFFSETFROM:+0100
TZOFFSETTO:+0200
TZNAME:CEST
DTSTART:20230326T010000
END:DAYLIGHT
BEGIN:STANDARD
TZOFFSETFROM:+0200
TZOFFSETTO:+0100
TZNAME:CET
DTSTART:20231029T010000
END:STANDARD
END:VTIMEZONE
BEGIN:VEVENT
DTSTART;TZID=Europe/Zurich:20221004T193000
DTEND;TZID=Europe/Zurich:20221004T193000
DTSTAMP:20260423T004020
CREATED:20220628T085353Z
LAST-MODIFIED:20220628T085542Z
UID:3998-1664911800-1664911800@sekermatingen.ch
SUMMARY:Informationsanlass Eltern 6. Klassen
DESCRIPTION:Wir laden die Eltern unserer zukünftigen SuS für eine kurze\, knackige Information über unsere Schule ein. Der Anlass findet im Zeichenzimmer statt.
URL:https://sekermatingen.ch/event/informationsanlass-eltern-6-klassen/
END:VEVENT
BEGIN:VEVENT
DTSTART;TZID=Europe/Zurich:20221010T080000
DTEND;TZID=Europe/Zurich:20221021T170000
DTSTAMP:20260423T004020
CREATED:20220617T061610Z
LAST-MODIFIED:20220617T061610Z
UID:3934-1665388800-1666371600@sekermatingen.ch
SUMMARY:Herbstferien
DESCRIPTION:
URL:https://sekermatingen.ch/event/herbstferien-6/
END:VEVENT
BEGIN:VEVENT
DTSTART;TZID=Europe/Zurich:20221030T080000
DTEND;TZID=Europe/Zurich:20221104T170000
DTSTAMP:20260423T004020
CREATED:20221023T074626Z
LAST-MODIFIED:20221023T074626Z
UID:4161-1667116800-1667581200@sekermatingen.ch
SUMMARY:Schnupperlehre G3
DESCRIPTION:
URL:https://sekermatingen.ch/event/schnupperlehre-g3-7/
END:VEVENT
BEGIN:VEVENT
DTSTART;TZID=Europe/Zurich:20221031T120000
DTEND;TZID=Europe/Zurich:20221031T170000
DTSTAMP:20260423T004020
CREATED:20220628T085624Z
LAST-MODIFIED:20220628T085624Z
UID:4001-1667217600-1667235600@sekermatingen.ch
SUMMARY:Jahrmarkt Kreuzlingen
DESCRIPTION:Nachmittag frei.
URL:https://sekermatingen.ch/event/jahrmarkt-kreuzlingen-2/
END:VEVENT
END:VCALENDAR