BEGIN:VCALENDAR
VERSION:2.0
PRODID:-// - ECPv6.15.12.2//NONSGML v1.0//EN
CALSCALE:GREGORIAN
METHOD:PUBLISH
X-ORIGINAL-URL:https://sekermatingen.ch
X-WR-CALDESC:Veranstaltungen für 
REFRESH-INTERVAL;VALUE=DURATION:PT1H
X-Robots-Tag:noindex
X-PUBLISHED-TTL:PT1H
BEGIN:VTIMEZONE
TZID:Europe/Zurich
BEGIN:DAYLIGHT
TZOFFSETFROM:+0100
TZOFFSETTO:+0200
TZNAME:CEST
DTSTART:20210328T010000
END:DAYLIGHT
BEGIN:STANDARD
TZOFFSETFROM:+0200
TZOFFSETTO:+0100
TZNAME:CET
DTSTART:20211031T010000
END:STANDARD
BEGIN:DAYLIGHT
TZOFFSETFROM:+0100
TZOFFSETTO:+0200
TZNAME:CEST
DTSTART:20220327T010000
END:DAYLIGHT
BEGIN:STANDARD
TZOFFSETFROM:+0200
TZOFFSETTO:+0100
TZNAME:CET
DTSTART:20221030T010000
END:STANDARD
BEGIN:DAYLIGHT
TZOFFSETFROM:+0100
TZOFFSETTO:+0200
TZNAME:CEST
DTSTART:20230326T010000
END:DAYLIGHT
BEGIN:STANDARD
TZOFFSETFROM:+0200
TZOFFSETTO:+0100
TZNAME:CET
DTSTART:20231029T010000
END:STANDARD
END:VTIMEZONE
BEGIN:VEVENT
DTSTART;TZID=Europe/Zurich:20220501T080000
DTEND;TZID=Europe/Zurich:20220501T170000
DTSTAMP:20260423T023003
CREATED:20210819T075710Z
LAST-MODIFIED:20210819T075710Z
UID:3380-1651392000-1651424400@sekermatingen.ch
SUMMARY:Tag der Arbeit (schulfrei)
DESCRIPTION:ist ja sowieso ein Sonntag 🙂
URL:https://sekermatingen.ch/event/tag-der-arbeit-schulfrei/
END:VEVENT
BEGIN:VEVENT
DTSTART;TZID=Europe/Zurich:20220511T193000
DTEND;TZID=Europe/Zurich:20220511T210000
DTSTAMP:20260423T023003
CREATED:20220427T070854Z
LAST-MODIFIED:20220427T071331Z
UID:3777-1652297400-1652302800@sekermatingen.ch
SUMMARY:Elternveranstaltung "Onlinesicherheit"
DESCRIPTION:Chatten\, posten\, Bilder versenden… Jugendliche bewegen sich dauernd im Internet\, wenden neue Apps an und benutzen ihr Smartphone rund um die Uhr. Sie sind sich leider oftmals nicht bewusst\, dass dies auch Risiken birgt oder sogar Ärger mit dem Gesetz bringen kann. \nMissbrauch von Sexting-Material\, Cybermobbing oder Gewaltvideos sind hier nur einige Stichworte. Im Elternvortrag der Kantonspolizei Thurgau werden diese Risiken thematisiert und Grenzen aufgezeigt. \nAm 9. Mai finden zu diesem Thema Referate für die Jugendlichen in allen 1. Klassen statt. Die Inputs aus dem Elternvortrag können als wichtiges Rüstzeug für den Austausch mit dem eigenen Kind\, bzw. für die Medienerziehung angewendet werden.
URL:https://sekermatingen.ch/event/elternveranstaltung-onlinesicherheit/
ATTACH;FMTTYPE=image/jpeg:https://sekermatingen.ch/wp-content/uploads/2022/04/Onlineischerheit-Vortrag-scaled.jpg
END:VEVENT
END:VCALENDAR