BEGIN:VCALENDAR
VERSION:2.0
PRODID:-// - ECPv6.15.12.2//NONSGML v1.0//EN
CALSCALE:GREGORIAN
METHOD:PUBLISH
X-ORIGINAL-URL:https://sekermatingen.ch
X-WR-CALDESC:Veranstaltungen für 
REFRESH-INTERVAL;VALUE=DURATION:PT1H
X-Robots-Tag:noindex
X-PUBLISHED-TTL:PT1H
BEGIN:VTIMEZONE
TZID:Europe/Zurich
BEGIN:DAYLIGHT
TZOFFSETFROM:+0100
TZOFFSETTO:+0200
TZNAME:CEST
DTSTART:20210328T010000
END:DAYLIGHT
BEGIN:STANDARD
TZOFFSETFROM:+0200
TZOFFSETTO:+0100
TZNAME:CET
DTSTART:20211031T010000
END:STANDARD
BEGIN:DAYLIGHT
TZOFFSETFROM:+0100
TZOFFSETTO:+0200
TZNAME:CEST
DTSTART:20220327T010000
END:DAYLIGHT
BEGIN:STANDARD
TZOFFSETFROM:+0200
TZOFFSETTO:+0100
TZNAME:CET
DTSTART:20221030T010000
END:STANDARD
BEGIN:DAYLIGHT
TZOFFSETFROM:+0100
TZOFFSETTO:+0200
TZNAME:CEST
DTSTART:20230326T010000
END:DAYLIGHT
BEGIN:STANDARD
TZOFFSETFROM:+0200
TZOFFSETTO:+0100
TZNAME:CET
DTSTART:20231029T010000
END:STANDARD
END:VTIMEZONE
BEGIN:VEVENT
DTSTART;TZID=Europe/Zurich:20220304T080000
DTEND;TZID=Europe/Zurich:20220305T170000
DTSTAMP:20260423T060737
CREATED:20210819T074725Z
LAST-MODIFIED:20210819T074725Z
UID:3367-1646380800-1646499600@sekermatingen.ch
SUMMARY:Schriftliche Aufnahmeprüfungen GMS2\, FMS\, BM
DESCRIPTION:
URL:https://sekermatingen.ch/event/schriftliche-aufnahmepruefungen-gms2-fms-bm-2/
END:VEVENT
BEGIN:VEVENT
DTSTART;TZID=Europe/Zurich:20220307T080000
DTEND;TZID=Europe/Zurich:20220311T170000
DTSTAMP:20260423T060737
CREATED:20210819T075156Z
LAST-MODIFIED:20210819T075210Z
UID:3369-1646640000-1647018000@sekermatingen.ch
SUMMARY:Skilager 1. Klassen / Projektwochen
DESCRIPTION:
URL:https://sekermatingen.ch/event/skilager-1-klassen/
END:VEVENT
BEGIN:VEVENT
DTSTART;TZID=Europe/Zurich:20220321T080000
DTEND;TZID=Europe/Zurich:20220322T170000
DTSTAMP:20260423T060737
CREATED:20210819T075248Z
LAST-MODIFIED:20210819T075248Z
UID:3372-1647849600-1647968400@sekermatingen.ch
SUMMARY:Mündliche Aufnahmeprüfungen GMS2\, FMS
DESCRIPTION:
URL:https://sekermatingen.ch/event/muendliche-aufnahmepruefungen-gms2-fms/
END:VEVENT
BEGIN:VEVENT
DTSTART;TZID=Europe/Zurich:20220325T080000
DTEND;TZID=Europe/Zurich:20220325T170000
DTSTAMP:20260423T060737
CREATED:20210819T075308Z
LAST-MODIFIED:20220215T202408Z
UID:3374-1648195200-1648227600@sekermatingen.ch
SUMMARY:Groppenfasnacht (abgesagt)
DESCRIPTION:Der normale Unterricht findet regulär statt. Freuen wir uns aufs nächste Jahr!!!
URL:https://sekermatingen.ch/event/groppenfasnacht/
END:VEVENT
END:VCALENDAR