BEGIN:VCALENDAR
VERSION:2.0
PRODID:-// - ECPv6.15.12.2//NONSGML v1.0//EN
CALSCALE:GREGORIAN
METHOD:PUBLISH
X-ORIGINAL-URL:https://sekermatingen.ch
X-WR-CALDESC:Veranstaltungen für 
REFRESH-INTERVAL;VALUE=DURATION:PT1H
X-Robots-Tag:noindex
X-PUBLISHED-TTL:PT1H
BEGIN:VTIMEZONE
TZID:Europe/Zurich
BEGIN:DAYLIGHT
TZOFFSETFROM:+0100
TZOFFSETTO:+0200
TZNAME:CEST
DTSTART:20200329T010000
END:DAYLIGHT
BEGIN:STANDARD
TZOFFSETFROM:+0200
TZOFFSETTO:+0100
TZNAME:CET
DTSTART:20201025T010000
END:STANDARD
BEGIN:DAYLIGHT
TZOFFSETFROM:+0100
TZOFFSETTO:+0200
TZNAME:CEST
DTSTART:20210328T010000
END:DAYLIGHT
BEGIN:STANDARD
TZOFFSETFROM:+0200
TZOFFSETTO:+0100
TZNAME:CET
DTSTART:20211031T010000
END:STANDARD
BEGIN:DAYLIGHT
TZOFFSETFROM:+0100
TZOFFSETTO:+0200
TZNAME:CEST
DTSTART:20220327T010000
END:DAYLIGHT
BEGIN:STANDARD
TZOFFSETFROM:+0200
TZOFFSETTO:+0100
TZNAME:CET
DTSTART:20221030T010000
END:STANDARD
END:VTIMEZONE
BEGIN:VEVENT
DTSTART;TZID=Europe/Zurich:20211101T080000
DTEND;TZID=Europe/Zurich:20211105T170000
DTSTAMP:20260423T134846
CREATED:20210819T073642Z
LAST-MODIFIED:20210819T073642Z
UID:3345-1635753600-1636131600@sekermatingen.ch
SUMMARY:Schnupperlehre 2. Klassen
DESCRIPTION:
URL:https://sekermatingen.ch/event/schnupperlehre-2-klassen-4/
END:VEVENT
BEGIN:VEVENT
DTSTART;TZID=Europe/Zurich:20211111T080000
DTEND;TZID=Europe/Zurich:20211111T170000
DTSTAMP:20260423T134846
CREATED:20210819T073704Z
LAST-MODIFIED:20210819T073704Z
UID:3347-1636617600-1636650000@sekermatingen.ch
SUMMARY:Nationaler Zukunftstag (1. Klassen)
DESCRIPTION:
URL:https://sekermatingen.ch/event/nationaler-zukunftstag-1-klassen/
END:VEVENT
BEGIN:VEVENT
DTSTART;TZID=Europe/Zurich:20211117T200000
DTEND;TZID=Europe/Zurich:20211117T210000
DTSTAMP:20260423T134846
CREATED:20210819T073741Z
LAST-MODIFIED:20210819T074000Z
UID:3349-1637179200-1637182800@sekermatingen.ch
SUMMARY:Schulgemeindeversammlung Budget
DESCRIPTION:
URL:https://sekermatingen.ch/event/schulgemeindeversammlung-budget-2/
END:VEVENT
BEGIN:VEVENT
DTSTART;TZID=Europe/Zurich:20211124T193000
DTEND;TZID=Europe/Zurich:20211124T203000
DTSTAMP:20260423T134846
CREATED:20210819T074122Z
LAST-MODIFIED:20211115T122852Z
UID:3351-1637782200-1637785800@sekermatingen.ch
SUMMARY:Informationsabend Eintritt SeE
DESCRIPTION:Unser Infoabend für die zukünftigen Schüler. Für die Eltern der aktuellen Sechstklässler*innen. \nAufgrund der aktuellen Bestimmungen gilt eine Maskentragpflicht. Die Anzahl der teilnehmenden Eltern ist auf 50 Personen beschränkt. \nEine Anmeldung zum Elternabend ist erforderlich. Die Anmeldung ist bis am 21.11.2021 an schulleitung@sekermatingen.ch zu richten (Vorname\, Name\, E-Mailadresse und Telefonnummer). \n  \n 
URL:https://sekermatingen.ch/event/informationsabend-eintritt-see-2/
END:VEVENT
END:VCALENDAR