BEGIN:VCALENDAR
VERSION:2.0
PRODID:-// - ECPv6.15.12.2//NONSGML v1.0//EN
CALSCALE:GREGORIAN
METHOD:PUBLISH
X-ORIGINAL-URL:https://sekermatingen.ch
X-WR-CALDESC:Veranstaltungen für 
REFRESH-INTERVAL;VALUE=DURATION:PT1H
X-Robots-Tag:noindex
X-PUBLISHED-TTL:PT1H
BEGIN:VTIMEZONE
TZID:Europe/Zurich
BEGIN:DAYLIGHT
TZOFFSETFROM:+0100
TZOFFSETTO:+0200
TZNAME:CEST
DTSTART:20200329T010000
END:DAYLIGHT
BEGIN:STANDARD
TZOFFSETFROM:+0200
TZOFFSETTO:+0100
TZNAME:CET
DTSTART:20201025T010000
END:STANDARD
BEGIN:DAYLIGHT
TZOFFSETFROM:+0100
TZOFFSETTO:+0200
TZNAME:CEST
DTSTART:20210328T010000
END:DAYLIGHT
BEGIN:STANDARD
TZOFFSETFROM:+0200
TZOFFSETTO:+0100
TZNAME:CET
DTSTART:20211031T010000
END:STANDARD
BEGIN:DAYLIGHT
TZOFFSETFROM:+0100
TZOFFSETTO:+0200
TZNAME:CEST
DTSTART:20220327T010000
END:DAYLIGHT
BEGIN:STANDARD
TZOFFSETFROM:+0200
TZOFFSETTO:+0100
TZNAME:CET
DTSTART:20221030T010000
END:STANDARD
END:VTIMEZONE
BEGIN:VEVENT
DTSTART;TZID=Europe/Zurich:20210712T080000
DTEND;TZID=Europe/Zurich:20210813T170000
DTSTAMP:20260423T190613
CREATED:20200618T074325Z
LAST-MODIFIED:20200618T074325Z
UID:2881-1626076800-1628874000@sekermatingen.ch
SUMMARY:Sommerferien
DESCRIPTION:
URL:https://sekermatingen.ch/event/sommerferien-2/
END:VEVENT
BEGIN:VEVENT
DTSTART;TZID=Europe/Zurich:20210823T080000
DTEND;TZID=Europe/Zurich:20210829T170000
DTSTAMP:20260423T190613
CREATED:20210813T075629Z
LAST-MODIFIED:20210813T075629Z
UID:3311-1629705600-1630256400@sekermatingen.ch
SUMMARY:Seeüberquerung
DESCRIPTION:Di\, Mi\, oder Donnerstag je nach Wetter
URL:https://sekermatingen.ch/event/seeueberquerung-2/
END:VEVENT
BEGIN:VEVENT
DTSTART;TZID=Europe/Zurich:20210825T193000
DTEND;TZID=Europe/Zurich:20210906T203000
DTSTAMP:20260423T190613
CREATED:20210813T080122Z
LAST-MODIFIED:20210819T072856Z
UID:3318-1629919800-1630960200@sekermatingen.ch
SUMMARY:Elternabend ersten Klassen
DESCRIPTION:Elternabend der Erstklasseltern um 19.30 im Klassenzimmer der Klassenlehrperson.
URL:https://sekermatingen.ch/event/elternabend-erste-klassen/
END:VEVENT
END:VCALENDAR