BEGIN:VCALENDAR
VERSION:2.0
PRODID:-// - ECPv6.15.12.2//NONSGML v1.0//EN
CALSCALE:GREGORIAN
METHOD:PUBLISH
X-ORIGINAL-URL:https://sekermatingen.ch
X-WR-CALDESC:Veranstaltungen für 
REFRESH-INTERVAL;VALUE=DURATION:PT1H
X-Robots-Tag:noindex
X-PUBLISHED-TTL:PT1H
BEGIN:VTIMEZONE
TZID:Europe/Zurich
BEGIN:DAYLIGHT
TZOFFSETFROM:+0100
TZOFFSETTO:+0200
TZNAME:CEST
DTSTART:20200329T010000
END:DAYLIGHT
BEGIN:STANDARD
TZOFFSETFROM:+0200
TZOFFSETTO:+0100
TZNAME:CET
DTSTART:20201025T010000
END:STANDARD
BEGIN:DAYLIGHT
TZOFFSETFROM:+0100
TZOFFSETTO:+0200
TZNAME:CEST
DTSTART:20210328T010000
END:DAYLIGHT
BEGIN:STANDARD
TZOFFSETFROM:+0200
TZOFFSETTO:+0100
TZNAME:CET
DTSTART:20211031T010000
END:STANDARD
BEGIN:DAYLIGHT
TZOFFSETFROM:+0100
TZOFFSETTO:+0200
TZNAME:CEST
DTSTART:20220327T010000
END:DAYLIGHT
BEGIN:STANDARD
TZOFFSETFROM:+0200
TZOFFSETTO:+0100
TZNAME:CET
DTSTART:20221030T010000
END:STANDARD
END:VTIMEZONE
BEGIN:VEVENT
DTSTART;TZID=Europe/Zurich:20210402T080000
DTEND;TZID=Europe/Zurich:20210416T170000
DTSTAMP:20260424T022438
CREATED:20200618T071858Z
LAST-MODIFIED:20200618T071858Z
UID:2861-1617350400-1618592400@sekermatingen.ch
SUMMARY:Frühlingsferien
DESCRIPTION:
URL:https://sekermatingen.ch/event/fruehlingsferien-3/
END:VEVENT
BEGIN:VEVENT
DTSTART;TZID=Europe/Zurich:20210428T080000
DTEND;TZID=Europe/Zurich:20210429T170000
DTSTAMP:20260424T022438
CREATED:20200618T071936Z
LAST-MODIFIED:20200618T071936Z
UID:2863-1619596800-1619715600@sekermatingen.ch
SUMMARY:Koordinierte Aufnahmeprüfung Sek
DESCRIPTION:
URL:https://sekermatingen.ch/event/koordinierte-aufnahmepruefung-sek-2/
END:VEVENT
END:VCALENDAR