BEGIN:VCALENDAR
VERSION:2.0
PRODID:-// - ECPv6.15.12.2//NONSGML v1.0//EN
CALSCALE:GREGORIAN
METHOD:PUBLISH
X-ORIGINAL-URL:https://sekermatingen.ch
X-WR-CALDESC:Veranstaltungen für 
REFRESH-INTERVAL;VALUE=DURATION:PT1H
X-Robots-Tag:noindex
X-PUBLISHED-TTL:PT1H
BEGIN:VTIMEZONE
TZID:Europe/Zurich
BEGIN:DAYLIGHT
TZOFFSETFROM:+0100
TZOFFSETTO:+0200
TZNAME:CEST
DTSTART:20200329T010000
END:DAYLIGHT
BEGIN:STANDARD
TZOFFSETFROM:+0200
TZOFFSETTO:+0100
TZNAME:CET
DTSTART:20201025T010000
END:STANDARD
BEGIN:DAYLIGHT
TZOFFSETFROM:+0100
TZOFFSETTO:+0200
TZNAME:CEST
DTSTART:20210328T010000
END:DAYLIGHT
BEGIN:STANDARD
TZOFFSETFROM:+0200
TZOFFSETTO:+0100
TZNAME:CET
DTSTART:20211031T010000
END:STANDARD
BEGIN:DAYLIGHT
TZOFFSETFROM:+0100
TZOFFSETTO:+0200
TZNAME:CEST
DTSTART:20220327T010000
END:DAYLIGHT
BEGIN:STANDARD
TZOFFSETFROM:+0200
TZOFFSETTO:+0100
TZNAME:CET
DTSTART:20221030T010000
END:STANDARD
END:VTIMEZONE
BEGIN:VEVENT
DTSTART;TZID=Europe/Zurich:20210305T080000
DTEND;TZID=Europe/Zurich:20210306T170000
DTSTAMP:20260424T080237
CREATED:20200618T071420Z
LAST-MODIFIED:20200618T071420Z
UID:2853-1614931200-1615050000@sekermatingen.ch
SUMMARY:Schriftliche Aufnahmeprüfungen GMS 2\, FMS\, BM
DESCRIPTION:
URL:https://sekermatingen.ch/event/schriftliche-aufnahmepruefungen-gms-2-fms-bm/
END:VEVENT
BEGIN:VEVENT
DTSTART;TZID=Europe/Zurich:20210307T080000
DTEND;TZID=Europe/Zurich:20210312T170000
DTSTAMP:20260424T080237
CREATED:20200618T071726Z
LAST-MODIFIED:20200618T071726Z
UID:2857-1615104000-1615568400@sekermatingen.ch
SUMMARY:Skilager 1. Klassen Projektwochen 2. und 3 Klassen
DESCRIPTION:
URL:https://sekermatingen.ch/event/skilager-1-klassen-projektwochen-2-und-3-klassen/
END:VEVENT
BEGIN:VEVENT
DTSTART;TZID=Europe/Zurich:20210312T120000
DTEND;TZID=Europe/Zurich:20210312T170000
DTSTAMP:20260424T080237
CREATED:20200618T071755Z
LAST-MODIFIED:20200618T071805Z
UID:2859-1615550400-1615568400@sekermatingen.ch
SUMMARY:Fasnacht Nachmittag frei
DESCRIPTION:
URL:https://sekermatingen.ch/event/fasnacht-nachmittag-frei/
END:VEVENT
BEGIN:VEVENT
DTSTART;TZID=Europe/Zurich:20210322T080000
DTEND;TZID=Europe/Zurich:20210323T170000
DTSTAMP:20260424T080237
CREATED:20200618T071507Z
LAST-MODIFIED:20200618T071507Z
UID:2855-1616400000-1616518800@sekermatingen.ch
SUMMARY:Mündliche Aufnahmeprüfungen GMS 2\, FMS
DESCRIPTION:
URL:https://sekermatingen.ch/event/muendliche-aufnahmepruefungen-gms-2-fms/
END:VEVENT
END:VCALENDAR