BEGIN:VCALENDAR
VERSION:2.0
PRODID:-// - ECPv6.15.12.2//NONSGML v1.0//EN
CALSCALE:GREGORIAN
METHOD:PUBLISH
X-ORIGINAL-URL:https://sekermatingen.ch
X-WR-CALDESC:Veranstaltungen für 
REFRESH-INTERVAL;VALUE=DURATION:PT1H
X-Robots-Tag:noindex
X-PUBLISHED-TTL:PT1H
BEGIN:VTIMEZONE
TZID:Europe/Zurich
BEGIN:DAYLIGHT
TZOFFSETFROM:+0100
TZOFFSETTO:+0200
TZNAME:CEST
DTSTART:20190331T010000
END:DAYLIGHT
BEGIN:STANDARD
TZOFFSETFROM:+0200
TZOFFSETTO:+0100
TZNAME:CET
DTSTART:20191027T010000
END:STANDARD
BEGIN:DAYLIGHT
TZOFFSETFROM:+0100
TZOFFSETTO:+0200
TZNAME:CEST
DTSTART:20200329T010000
END:DAYLIGHT
BEGIN:STANDARD
TZOFFSETFROM:+0200
TZOFFSETTO:+0100
TZNAME:CET
DTSTART:20201025T010000
END:STANDARD
BEGIN:DAYLIGHT
TZOFFSETFROM:+0100
TZOFFSETTO:+0200
TZNAME:CEST
DTSTART:20210328T010000
END:DAYLIGHT
BEGIN:STANDARD
TZOFFSETFROM:+0200
TZOFFSETTO:+0100
TZNAME:CET
DTSTART:20211031T010000
END:STANDARD
BEGIN:DAYLIGHT
TZOFFSETFROM:+0100
TZOFFSETTO:+0200
TZNAME:CEST
DTSTART:20220327T010000
END:DAYLIGHT
BEGIN:STANDARD
TZOFFSETFROM:+0200
TZOFFSETTO:+0100
TZNAME:CET
DTSTART:20221030T010000
END:STANDARD
END:VTIMEZONE
BEGIN:VEVENT
DTSTART;TZID=Europe/Zurich:20201221T080000
DTEND;TZID=Europe/Zurich:20210101T170000
DTSTAMP:20260424T112016
CREATED:20200618T065809Z
LAST-MODIFIED:20200618T065809Z
UID:2841-1608537600-1609520400@sekermatingen.ch
SUMMARY:Weihnachtsferien
DESCRIPTION:
URL:https://sekermatingen.ch/event/weihnachtsferien-3/
END:VEVENT
BEGIN:VEVENT
DTSTART;TZID=Europe/Zurich:20210104T080000
DTEND;TZID=Europe/Zurich:20210105T170000
DTSTAMP:20260424T112016
CREATED:20200618T070552Z
LAST-MODIFIED:20200618T070552Z
UID:2843-1609747200-1609866000@sekermatingen.ch
SUMMARY:Schriftliche Aufnahmeprüfungen GMS 3
DESCRIPTION:
URL:https://sekermatingen.ch/event/schriftliche-aufnahmepruefungen-gms-3-2/
END:VEVENT
BEGIN:VEVENT
DTSTART;TZID=Europe/Zurich:20210118T080000
DTEND;TZID=Europe/Zurich:20210120T170000
DTSTAMP:20260424T112016
CREATED:20200618T070859Z
LAST-MODIFIED:20200618T070859Z
UID:2845-1610956800-1611162000@sekermatingen.ch
SUMMARY:Mündliche Aufnahmeprüfung GMS 3
DESCRIPTION:
URL:https://sekermatingen.ch/event/muendliche-aufnahmepruefung-gms-3/
END:VEVENT
BEGIN:VEVENT
DTSTART;TZID=Europe/Zurich:20210128T080000
DTEND;TZID=Europe/Zurich:20210128T170000
DTSTAMP:20260424T112016
CREATED:20200618T070947Z
LAST-MODIFIED:20201214T060827Z
UID:2847-1611820800-1611853200@sekermatingen.ch
SUMMARY:Schneesporttag Laax
DESCRIPTION:wird auf den März verschoben\, falls er dann durchgeführt werden kann
URL:https://sekermatingen.ch/event/schneesporttag-laax/
END:VEVENT
END:VCALENDAR