BEGIN:VCALENDAR
VERSION:2.0
PRODID:-// - ECPv6.15.12.2//NONSGML v1.0//EN
CALSCALE:GREGORIAN
METHOD:PUBLISH
X-ORIGINAL-URL:https://sekermatingen.ch
X-WR-CALDESC:Veranstaltungen für 
REFRESH-INTERVAL;VALUE=DURATION:PT1H
X-Robots-Tag:noindex
X-PUBLISHED-TTL:PT1H
BEGIN:VTIMEZONE
TZID:Europe/Zurich
BEGIN:DAYLIGHT
TZOFFSETFROM:+0100
TZOFFSETTO:+0200
TZNAME:CEST
DTSTART:20190331T010000
END:DAYLIGHT
BEGIN:STANDARD
TZOFFSETFROM:+0200
TZOFFSETTO:+0100
TZNAME:CET
DTSTART:20191027T010000
END:STANDARD
BEGIN:DAYLIGHT
TZOFFSETFROM:+0100
TZOFFSETTO:+0200
TZNAME:CEST
DTSTART:20200329T010000
END:DAYLIGHT
BEGIN:STANDARD
TZOFFSETFROM:+0200
TZOFFSETTO:+0100
TZNAME:CET
DTSTART:20201025T010000
END:STANDARD
BEGIN:DAYLIGHT
TZOFFSETFROM:+0100
TZOFFSETTO:+0200
TZNAME:CEST
DTSTART:20210328T010000
END:DAYLIGHT
BEGIN:STANDARD
TZOFFSETFROM:+0200
TZOFFSETTO:+0100
TZNAME:CET
DTSTART:20211031T010000
END:STANDARD
BEGIN:DAYLIGHT
TZOFFSETFROM:+0100
TZOFFSETTO:+0200
TZNAME:CEST
DTSTART:20220327T010000
END:DAYLIGHT
BEGIN:STANDARD
TZOFFSETFROM:+0200
TZOFFSETTO:+0100
TZNAME:CET
DTSTART:20221030T010000
END:STANDARD
END:VTIMEZONE
BEGIN:VEVENT
DTSTART;TZID=Europe/Zurich:20201218T080000
DTEND;TZID=Europe/Zurich:20201218T130000
DTSTAMP:20260424T132335
CREATED:20200618T065708Z
LAST-MODIFIED:20200618T065708Z
UID:2839-1608278400-1608296400@sekermatingen.ch
SUMMARY:Weihnachtsanlass für alle
DESCRIPTION:
URL:https://sekermatingen.ch/event/weihnachtsanlass-fuer-alle/
END:VEVENT
BEGIN:VEVENT
DTSTART;TZID=Europe/Zurich:20201221T080000
DTEND;TZID=Europe/Zurich:20210101T170000
DTSTAMP:20260424T132335
CREATED:20200618T065809Z
LAST-MODIFIED:20200618T065809Z
UID:2841-1608537600-1609520400@sekermatingen.ch
SUMMARY:Weihnachtsferien
DESCRIPTION:
URL:https://sekermatingen.ch/event/weihnachtsferien-3/
END:VEVENT
END:VCALENDAR