BEGIN:VCALENDAR
VERSION:2.0
PRODID:-// - ECPv6.15.12.2//NONSGML v1.0//EN
CALSCALE:GREGORIAN
METHOD:PUBLISH
X-ORIGINAL-URL:https://sekermatingen.ch
X-WR-CALDESC:Veranstaltungen für 
REFRESH-INTERVAL;VALUE=DURATION:PT1H
X-Robots-Tag:noindex
X-PUBLISHED-TTL:PT1H
BEGIN:VTIMEZONE
TZID:Europe/Zurich
BEGIN:DAYLIGHT
TZOFFSETFROM:+0100
TZOFFSETTO:+0200
TZNAME:CEST
DTSTART:20190331T010000
END:DAYLIGHT
BEGIN:STANDARD
TZOFFSETFROM:+0200
TZOFFSETTO:+0100
TZNAME:CET
DTSTART:20191027T010000
END:STANDARD
BEGIN:DAYLIGHT
TZOFFSETFROM:+0100
TZOFFSETTO:+0200
TZNAME:CEST
DTSTART:20200329T010000
END:DAYLIGHT
BEGIN:STANDARD
TZOFFSETFROM:+0200
TZOFFSETTO:+0100
TZNAME:CET
DTSTART:20201025T010000
END:STANDARD
BEGIN:DAYLIGHT
TZOFFSETFROM:+0100
TZOFFSETTO:+0200
TZNAME:CEST
DTSTART:20210328T010000
END:DAYLIGHT
BEGIN:STANDARD
TZOFFSETFROM:+0200
TZOFFSETTO:+0100
TZNAME:CET
DTSTART:20211031T010000
END:STANDARD
END:VTIMEZONE
BEGIN:VEVENT
DTSTART;TZID=Europe/Zurich:20201102T080000
DTEND;TZID=Europe/Zurich:20201106T170000
DTSTAMP:20260424T145903
CREATED:20200618T054937Z
LAST-MODIFIED:20200618T054937Z
UID:2829-1604304000-1604682000@sekermatingen.ch
SUMMARY:Schnupperlehre der Zweitklässler
DESCRIPTION:Unsere Zweitklässler schnuppern Berufsluft gemäss unserem Berufwahlkonzept.
URL:https://sekermatingen.ch/event/schnupperlehre-der-zweitklaessler/
END:VEVENT
BEGIN:VEVENT
DTSTART;TZID=Europe/Zurich:20201112T080000
DTEND;TZID=Europe/Zurich:20201112T170000
DTSTAMP:20260424T145903
CREATED:20200618T055040Z
LAST-MODIFIED:20201026T071529Z
UID:2831-1605168000-1605200400@sekermatingen.ch
SUMMARY:Nationaler Zukunftstag für unsere Erstklässler (abgesagt)
DESCRIPTION:Wegen Covid-19 ist der Nationale Zukunftstag leider abgesagt.
URL:https://sekermatingen.ch/event/nationaler-zukunftstag-fuer-unsere-erstklaessler-2/
END:VEVENT
BEGIN:VEVENT
DTSTART;TZID=Europe/Zurich:20201112T080000
DTEND;TZID=Europe/Zurich:20201112T170000
DTSTAMP:20260424T145903
CREATED:20200618T055149Z
LAST-MODIFIED:20200618T055149Z
UID:2833-1605168000-1605200400@sekermatingen.ch
SUMMARY:Schulgemeinde Budgetversammlung in der Mehrzweckhalle.
DESCRIPTION:
URL:https://sekermatingen.ch/event/schulgemeinde-budgetversammlung-in-der-mehrzweckhalle/
END:VEVENT
BEGIN:VEVENT
DTSTART;TZID=Europe/Zurich:20201116T080000
DTEND;TZID=Europe/Zurich:20201116T170000
DTSTAMP:20260424T145903
CREATED:20200618T055234Z
LAST-MODIFIED:20200618T055234Z
UID:2835-1605513600-1605546000@sekermatingen.ch
SUMMARY:1. Umstufungstermin für die Erstklässler
DESCRIPTION:
URL:https://sekermatingen.ch/event/1-umstufungstermin-fuer-die-erstklaessler/
END:VEVENT
BEGIN:VEVENT
DTSTART;TZID=Europe/Zurich:20201123T080000
DTEND;TZID=Europe/Zurich:20201123T170000
DTSTAMP:20260424T145903
CREATED:20201028T083915Z
LAST-MODIFIED:20201028T083915Z
UID:3028-1606118400-1606150800@sekermatingen.ch
SUMMARY:Velokontrolle
DESCRIPTION:Elterninformation Fahrzeugkontrolle PDF
URL:https://sekermatingen.ch/event/velokontrolle/
END:VEVENT
BEGIN:VEVENT
DTSTART;TZID=Europe/Zurich:20201125T193000
DTEND;TZID=Europe/Zurich:20201125T210000
DTSTAMP:20260424T145903
CREATED:20200618T065542Z
LAST-MODIFIED:20200618T065542Z
UID:2837-1606332600-1606338000@sekermatingen.ch
SUMMARY:Informationsabend Eintritt SeE 2021
DESCRIPTION:Infoabend für die Eltern unserer zukünftigen Erstklässer 2021.
URL:https://sekermatingen.ch/event/informationsabend-eintritt-see-2021/
END:VEVENT
END:VCALENDAR