BEGIN:VCALENDAR
VERSION:2.0
PRODID:-// - ECPv6.15.12.2//NONSGML v1.0//EN
CALSCALE:GREGORIAN
METHOD:PUBLISH
X-ORIGINAL-URL:https://sekermatingen.ch
X-WR-CALDESC:Veranstaltungen für 
REFRESH-INTERVAL;VALUE=DURATION:PT1H
X-Robots-Tag:noindex
X-PUBLISHED-TTL:PT1H
BEGIN:VTIMEZONE
TZID:Europe/Zurich
BEGIN:DAYLIGHT
TZOFFSETFROM:+0100
TZOFFSETTO:+0200
TZNAME:CEST
DTSTART:20190331T010000
END:DAYLIGHT
BEGIN:STANDARD
TZOFFSETFROM:+0200
TZOFFSETTO:+0100
TZNAME:CET
DTSTART:20191027T010000
END:STANDARD
BEGIN:DAYLIGHT
TZOFFSETFROM:+0100
TZOFFSETTO:+0200
TZNAME:CEST
DTSTART:20200329T010000
END:DAYLIGHT
BEGIN:STANDARD
TZOFFSETFROM:+0200
TZOFFSETTO:+0100
TZNAME:CET
DTSTART:20201025T010000
END:STANDARD
BEGIN:DAYLIGHT
TZOFFSETFROM:+0100
TZOFFSETTO:+0200
TZNAME:CEST
DTSTART:20210328T010000
END:DAYLIGHT
BEGIN:STANDARD
TZOFFSETFROM:+0200
TZOFFSETTO:+0100
TZNAME:CET
DTSTART:20211031T010000
END:STANDARD
END:VTIMEZONE
BEGIN:VEVENT
DTSTART;TZID=Europe/Zurich:20200521T080000
DTEND;TZID=Europe/Zurich:20200601T170000
DTSTAMP:20260424T231605
CREATED:20200520T073921Z
LAST-MODIFIED:20200520T073921Z
UID:2732-1590048000-1591030800@sekermatingen.ch
SUMMARY:Pfingstferien
DESCRIPTION:
URL:https://sekermatingen.ch/event/pfingstferien-2/
END:VEVENT
BEGIN:VEVENT
DTSTART;TZID=Europe/Zurich:20200608T200000
DTEND;TZID=Europe/Zurich:20200610T220000
DTSTAMP:20260424T231605
CREATED:20200520T074040Z
LAST-MODIFIED:20200520T074040Z
UID:2734-1591646400-1591826400@sekermatingen.ch
SUMMARY:Musical
DESCRIPTION:Aufführung je nach Stand Covid 19
URL:https://sekermatingen.ch/event/musical-2/
END:VEVENT
BEGIN:VEVENT
DTSTART;TZID=Europe/Zurich:20200617T110000
DTEND;TZID=Europe/Zurich:20200617T120000
DTSTAMP:20260424T231605
CREATED:20200520T074212Z
LAST-MODIFIED:20200615T044420Z
UID:2738-1592391600-1592395200@sekermatingen.ch
SUMMARY:Besuch der 6. Klässler
DESCRIPTION:Wir heissen die zukünftigen Erstklässler bei uns willkommen. \n 
URL:https://sekermatingen.ch/event/besuch-der-6-klaessler/
END:VEVENT
BEGIN:VEVENT
DTSTART;TZID=Europe/Zurich:20200620T080000
DTEND;TZID=Europe/Zurich:20200620T170000
DTSTAMP:20260424T231605
CREATED:20200520T074120Z
LAST-MODIFIED:20200520T074120Z
UID:2736-1592640000-1592672400@sekermatingen.ch
SUMMARY:DELF Prüfung
DESCRIPTION:
URL:https://sekermatingen.ch/event/delf-pruefung-3/
END:VEVENT
BEGIN:VEVENT
DTSTART;TZID=Europe/Zurich:20200627T080000
DTEND;TZID=Europe/Zurich:20200627T170000
DTSTAMP:20260424T231605
CREATED:20200520T074238Z
LAST-MODIFIED:20200520T074238Z
UID:2740-1593244800-1593277200@sekermatingen.ch
SUMMARY:Cambridge Prüfung
DESCRIPTION:
URL:https://sekermatingen.ch/event/cambridge-pruefung/
END:VEVENT
END:VCALENDAR