BEGIN:VCALENDAR
VERSION:2.0
PRODID:-// - ECPv6.15.12.2//NONSGML v1.0//EN
CALSCALE:GREGORIAN
METHOD:PUBLISH
X-ORIGINAL-URL:https://sekermatingen.ch
X-WR-CALDESC:Veranstaltungen für 
REFRESH-INTERVAL;VALUE=DURATION:PT1H
X-Robots-Tag:noindex
X-PUBLISHED-TTL:PT1H
BEGIN:VTIMEZONE
TZID:Europe/Zurich
BEGIN:DAYLIGHT
TZOFFSETFROM:+0100
TZOFFSETTO:+0200
TZNAME:CEST
DTSTART:20180325T010000
END:DAYLIGHT
BEGIN:STANDARD
TZOFFSETFROM:+0200
TZOFFSETTO:+0100
TZNAME:CET
DTSTART:20181028T010000
END:STANDARD
BEGIN:DAYLIGHT
TZOFFSETFROM:+0100
TZOFFSETTO:+0200
TZNAME:CEST
DTSTART:20190331T010000
END:DAYLIGHT
BEGIN:STANDARD
TZOFFSETFROM:+0200
TZOFFSETTO:+0100
TZNAME:CET
DTSTART:20191027T010000
END:STANDARD
BEGIN:DAYLIGHT
TZOFFSETFROM:+0100
TZOFFSETTO:+0200
TZNAME:CEST
DTSTART:20200329T010000
END:DAYLIGHT
BEGIN:STANDARD
TZOFFSETFROM:+0200
TZOFFSETTO:+0100
TZNAME:CET
DTSTART:20201025T010000
END:STANDARD
END:VTIMEZONE
BEGIN:VEVENT
DTSTART;TZID=Europe/Zurich:20191113T200000
DTEND;TZID=Europe/Zurich:20191113T210000
DTSTAMP:20260425T152704
CREATED:20190613T074835Z
LAST-MODIFIED:20190613T074835Z
UID:2096-1573675200-1573678800@sekermatingen.ch
SUMMARY:Schulgemeinde Versammlung
DESCRIPTION:
URL:https://sekermatingen.ch/event/schulgemeinde-versammlung/
END:VEVENT
BEGIN:VEVENT
DTSTART;TZID=Europe/Zurich:20191114T080000
DTEND;TZID=Europe/Zurich:20191114T170000
DTSTAMP:20260425T152704
CREATED:20190613T074733Z
LAST-MODIFIED:20190613T074743Z
UID:2094-1573718400-1573750800@sekermatingen.ch
SUMMARY:Nationaler Zukunftstag für unsere Erstklässler
DESCRIPTION:
URL:https://sekermatingen.ch/event/nationaler-zukunftstag-fuer-unsere-erstklaessler/
END:VEVENT
BEGIN:VEVENT
DTSTART;TZID=Europe/Zurich:20191118T080000
DTEND;TZID=Europe/Zurich:20191122T170000
DTSTAMP:20260425T152704
CREATED:20190613T074621Z
LAST-MODIFIED:20190816T145508Z
UID:2090-1574064000-1574442000@sekermatingen.ch
SUMMARY:Schnupperlehre E2
DESCRIPTION:
URL:https://sekermatingen.ch/event/schnupperlehre-e2/
END:VEVENT
BEGIN:VEVENT
DTSTART;TZID=Europe/Zurich:20191122T180000
DTEND;TZID=Europe/Zurich:20191122T200000
DTSTAMP:20260425T152704
CREATED:20190613T074926Z
LAST-MODIFIED:20190613T074926Z
UID:2098-1574445600-1574452800@sekermatingen.ch
SUMMARY:Filmlesung in der Schulbibliothek mit Thomas Binotto
DESCRIPTION:
URL:https://sekermatingen.ch/event/filmlesung-in-der-schulbibliothek-mit-thomas-binotto/
END:VEVENT
BEGIN:VEVENT
DTSTART;TZID=Europe/Zurich:20191127T193000
DTEND;TZID=Europe/Zurich:20191127T203000
DTSTAMP:20260425T152704
CREATED:20190613T075012Z
LAST-MODIFIED:20190613T075012Z
UID:2100-1574883000-1574886600@sekermatingen.ch
SUMMARY:Informationsabend zukünftige Erstklässler
DESCRIPTION:
URL:https://sekermatingen.ch/event/informationsabend-zukuenftige-erstklaessler/
END:VEVENT
END:VCALENDAR