BEGIN:VCALENDAR
VERSION:2.0
PRODID:-// - ECPv6.15.12.2//NONSGML v1.0//EN
CALSCALE:GREGORIAN
METHOD:PUBLISH
X-ORIGINAL-URL:https://sekermatingen.ch
X-WR-CALDESC:Veranstaltungen für 
REFRESH-INTERVAL;VALUE=DURATION:PT1H
X-Robots-Tag:noindex
X-PUBLISHED-TTL:PT1H
BEGIN:VTIMEZONE
TZID:Europe/Zurich
BEGIN:DAYLIGHT
TZOFFSETFROM:+0100
TZOFFSETTO:+0200
TZNAME:CEST
DTSTART:20180325T010000
END:DAYLIGHT
BEGIN:STANDARD
TZOFFSETFROM:+0200
TZOFFSETTO:+0100
TZNAME:CET
DTSTART:20181028T010000
END:STANDARD
BEGIN:DAYLIGHT
TZOFFSETFROM:+0100
TZOFFSETTO:+0200
TZNAME:CEST
DTSTART:20190331T010000
END:DAYLIGHT
BEGIN:STANDARD
TZOFFSETFROM:+0200
TZOFFSETTO:+0100
TZNAME:CET
DTSTART:20191027T010000
END:STANDARD
BEGIN:DAYLIGHT
TZOFFSETFROM:+0100
TZOFFSETTO:+0200
TZNAME:CEST
DTSTART:20200329T010000
END:DAYLIGHT
BEGIN:STANDARD
TZOFFSETFROM:+0200
TZOFFSETTO:+0100
TZNAME:CET
DTSTART:20201025T010000
END:STANDARD
END:VTIMEZONE
BEGIN:VEVENT
DTSTART;TZID=Europe/Zurich:20191005T080000
DTEND;TZID=Europe/Zurich:20191020T170000
DTSTAMP:20260425T174236
CREATED:20190613T074423Z
LAST-MODIFIED:20190613T074423Z
UID:2086-1570262400-1571590800@sekermatingen.ch
SUMMARY:Herbstferien
DESCRIPTION:
URL:https://sekermatingen.ch/event/herbstferien-3/
END:VEVENT
BEGIN:VEVENT
DTSTART;TZID=Europe/Zurich:20191021T080000
DTEND;TZID=Europe/Zurich:20191025T170000
DTSTAMP:20260425T174236
CREATED:20190613T074542Z
LAST-MODIFIED:20190613T074542Z
UID:2088-1571644800-1572022800@sekermatingen.ch
SUMMARY:Schnupperlehre G2
DESCRIPTION:
URL:https://sekermatingen.ch/event/schnupperlehre-g2/
END:VEVENT
BEGIN:VEVENT
DTSTART;TZID=Europe/Zurich:20191028T120000
DTEND;TZID=Europe/Zurich:20191028T170000
DTSTAMP:20260425T174236
CREATED:20190613T074704Z
LAST-MODIFIED:20190613T074704Z
UID:2092-1572264000-1572282000@sekermatingen.ch
SUMMARY:Jahrmarkt Kreuzlingen schulfreier Nachmittag
DESCRIPTION:
URL:https://sekermatingen.ch/event/jahrmarkt-kreuzlingen-schulfreier-nachmittag/
END:VEVENT
END:VCALENDAR