BEGIN:VCALENDAR
VERSION:2.0
PRODID:-// - ECPv6.15.12.2//NONSGML v1.0//EN
CALSCALE:GREGORIAN
METHOD:PUBLISH
X-ORIGINAL-URL:https://sekermatingen.ch
X-WR-CALDESC:Veranstaltungen für 
REFRESH-INTERVAL;VALUE=DURATION:PT1H
X-Robots-Tag:noindex
X-PUBLISHED-TTL:PT1H
BEGIN:VTIMEZONE
TZID:Europe/Zurich
BEGIN:DAYLIGHT
TZOFFSETFROM:+0100
TZOFFSETTO:+0200
TZNAME:CEST
DTSTART:20180325T010000
END:DAYLIGHT
BEGIN:STANDARD
TZOFFSETFROM:+0200
TZOFFSETTO:+0100
TZNAME:CET
DTSTART:20181028T010000
END:STANDARD
BEGIN:DAYLIGHT
TZOFFSETFROM:+0100
TZOFFSETTO:+0200
TZNAME:CEST
DTSTART:20190331T010000
END:DAYLIGHT
BEGIN:STANDARD
TZOFFSETFROM:+0200
TZOFFSETTO:+0100
TZNAME:CET
DTSTART:20191027T010000
END:STANDARD
BEGIN:DAYLIGHT
TZOFFSETFROM:+0100
TZOFFSETTO:+0200
TZNAME:CEST
DTSTART:20200329T010000
END:DAYLIGHT
BEGIN:STANDARD
TZOFFSETFROM:+0200
TZOFFSETTO:+0100
TZNAME:CET
DTSTART:20201025T010000
END:STANDARD
END:VTIMEZONE
BEGIN:VEVENT
DTSTART;TZID=Europe/Zurich:20190903T080000
DTEND;TZID=Europe/Zurich:20190903T170000
DTSTAMP:20260425T193028
CREATED:20190613T073557Z
LAST-MODIFIED:20190613T073557Z
UID:2072-1567497600-1567530000@sekermatingen.ch
SUMMARY:Schulreise
DESCRIPTION:
URL:https://sekermatingen.ch/event/schulreise-2/
END:VEVENT
BEGIN:VEVENT
DTSTART;TZID=Europe/Zurich:20190904T193000
DTEND;TZID=Europe/Zurich:20190904T210000
DTSTAMP:20260425T193028
CREATED:20190613T073946Z
LAST-MODIFIED:20190613T073946Z
UID:2076-1567625400-1567630800@sekermatingen.ch
SUMMARY:Berufswahlabend 2. Klassen
DESCRIPTION:Unter Berufswahlabend für die Eltern der 2.  Klassen.
URL:https://sekermatingen.ch/event/berufswahlabend-2-klassen-2/
END:VEVENT
BEGIN:VEVENT
DTSTART;TZID=Europe/Zurich:20190905T080000
DTEND;TZID=Europe/Zurich:20190905T170000
DTSTAMP:20260425T193028
CREATED:20190613T073846Z
LAST-MODIFIED:20190613T073846Z
UID:2074-1567670400-1567702800@sekermatingen.ch
SUMMARY:Schulreise Verschiebedatum
DESCRIPTION:
URL:https://sekermatingen.ch/event/schulreise-verschiebedatum/
END:VEVENT
BEGIN:VEVENT
DTSTART;TZID=Europe/Zurich:20190909T080000
DTEND;TZID=Europe/Zurich:20190913T170000
DTSTAMP:20260425T193028
CREATED:20190613T074021Z
LAST-MODIFIED:20190613T074021Z
UID:2078-1568016000-1568394000@sekermatingen.ch
SUMMARY:Schnupperlehre G3
DESCRIPTION:
URL:https://sekermatingen.ch/event/schnupperlehre-g3-2/
END:VEVENT
BEGIN:VEVENT
DTSTART;TZID=Europe/Zurich:20190910T080000
DTEND;TZID=Europe/Zurich:20190917T170000
DTSTAMP:20260425T193028
CREATED:20190613T074051Z
LAST-MODIFIED:20190704T072811Z
UID:2080-1568102400-1568739600@sekermatingen.ch
SUMMARY:Ermatinger Berufswahltage für die 2. Klassen
DESCRIPTION:
URL:https://sekermatingen.ch/event/ermatinger-berufswahltage-fuer-die-2-klassen/
END:VEVENT
BEGIN:VEVENT
DTSTART;TZID=Europe/Zurich:20190919T080000
DTEND;TZID=Europe/Zurich:20190921T170000
DTSTAMP:20260425T193028
CREATED:20190613T074119Z
LAST-MODIFIED:20190613T074119Z
UID:2082-1568880000-1569085200@sekermatingen.ch
SUMMARY:Berufsmesse Thurgau
DESCRIPTION:
URL:https://sekermatingen.ch/event/berufsmesse-thurgau/
END:VEVENT
BEGIN:VEVENT
DTSTART;TZID=Europe/Zurich:20190923T080000
DTEND;TZID=Europe/Zurich:20190927T170000
DTSTAMP:20260425T193028
CREATED:20190613T074147Z
LAST-MODIFIED:20190613T074147Z
UID:2084-1569225600-1569603600@sekermatingen.ch
SUMMARY:Schnupperlehre G3
DESCRIPTION:
URL:https://sekermatingen.ch/event/schnupperlehre-g3-3/
END:VEVENT
END:VCALENDAR