BEGIN:VCALENDAR
VERSION:2.0
PRODID:-// - ECPv6.15.12.2//NONSGML v1.0//EN
CALSCALE:GREGORIAN
METHOD:PUBLISH
X-ORIGINAL-URL:https://sekermatingen.ch
X-WR-CALDESC:Veranstaltungen für 
REFRESH-INTERVAL;VALUE=DURATION:PT1H
X-Robots-Tag:noindex
X-PUBLISHED-TTL:PT1H
BEGIN:VTIMEZONE
TZID:Europe/Zurich
BEGIN:DAYLIGHT
TZOFFSETFROM:+0100
TZOFFSETTO:+0200
TZNAME:CEST
DTSTART:20180325T010000
END:DAYLIGHT
BEGIN:STANDARD
TZOFFSETFROM:+0200
TZOFFSETTO:+0100
TZNAME:CET
DTSTART:20181028T010000
END:STANDARD
BEGIN:DAYLIGHT
TZOFFSETFROM:+0100
TZOFFSETTO:+0200
TZNAME:CEST
DTSTART:20190331T010000
END:DAYLIGHT
BEGIN:STANDARD
TZOFFSETFROM:+0200
TZOFFSETTO:+0100
TZNAME:CET
DTSTART:20191027T010000
END:STANDARD
BEGIN:DAYLIGHT
TZOFFSETFROM:+0100
TZOFFSETTO:+0200
TZNAME:CEST
DTSTART:20200329T010000
END:DAYLIGHT
BEGIN:STANDARD
TZOFFSETFROM:+0200
TZOFFSETTO:+0100
TZNAME:CET
DTSTART:20201025T010000
END:STANDARD
END:VTIMEZONE
BEGIN:VEVENT
DTSTART;TZID=Europe/Zurich:20190408T080000
DTEND;TZID=Europe/Zurich:20190422T170000
DTSTAMP:20260426T042802
CREATED:20181207T084310Z
LAST-MODIFIED:20181207T084310Z
UID:1835-1554710400-1555952400@sekermatingen.ch
SUMMARY:Frühlingsferien
DESCRIPTION:
URL:https://sekermatingen.ch/event/fruehlingsferien-2/
END:VEVENT
BEGIN:VEVENT
DTSTART;TZID=Europe/Zurich:20190424T080000
DTEND;TZID=Europe/Zurich:20190425T170000
DTSTAMP:20260426T042802
CREATED:20181207T084353Z
LAST-MODIFIED:20181207T084353Z
UID:1837-1556092800-1556211600@sekermatingen.ch
SUMMARY:Koordinierte Aufnahmeprüfung Sek
DESCRIPTION:
URL:https://sekermatingen.ch/event/koordinierte-aufnahmepruefung-sek/
END:VEVENT
BEGIN:VEVENT
DTSTART;TZID=Europe/Zurich:20190430T163000
DTEND;TZID=Europe/Zurich:20190430T190000
DTSTAMP:20260426T042802
CREATED:20181207T084458Z
LAST-MODIFIED:20190404T072725Z
UID:1839-1556641800-1556650800@sekermatingen.ch
SUMMARY:Abend der offenen Türe
DESCRIPTION:Einladung Besuchstag Brief 2019Wir laden alle Eltern ein unsere Schule zu besuchen.
URL:https://sekermatingen.ch/event/abned-der-offenen-tuere/
END:VEVENT
END:VCALENDAR